BEGIN:VCALENDAR
VERSION:2.0
PRODID:-//ChamberMaster//Event Calendar 2.0//EN
METHOD:PUBLISH
X-PUBLISHED-TTL:P3D
REFRESH-INTERVAL:P3D
CALSCALE:GREGORIAN
BEGIN:VEVENT
DTSTART:20140315T190000Z
DTEND:20140316T220000Z
X-MICROSOFT-CDO-ALLDAYEVENT:FALSE
SUMMARY:Colt Starting Challenge USA (Event Location Change)
DESCRIPTION:Colt Starting Challenge USA - Chino \n\n\n	4 Round Pens\n	4 Unbroke Horses\n	4 Horse Trainers\n\nCome and watch THE ACTION as 4 expert horse trainers compete to gentle and ride 4 unbroke horses in just a few hours using Natural Horsemanship methods.\n\n\n\nOn Saturday they have 2 hours and on Sunday 1.5 hours\, then they ride their horse thru an obstacle course. The Judges decide the Winner and a Buckle is awarded.  \n\n\n\nBring your own chairs!
X-ALT-DESC;FMTTYPE=text/html:<br />\n<span style="font-family:arial\;"><span style="font-size:14px\;"><span style="color:#8b4513\;"><strong>Colt Starting Challenge USA - Chino&nbsp\;</strong></span></span></span>\n\n<ul>\n	<li><span style="font-family:tahoma\;"><span style="font-size:12px\;"><span style="color:#daa520\;"><strong>4 Round Pens</strong></span></span></span></li>\n	<li><span style="font-family:tahoma\;"><span style="font-size:12px\;"><span style="color:#daa520\;"><strong>4 Unbroke&nbsp\;Horses</strong></span></span></span></li>\n	<li><span style="font-family:tahoma\;"><span style="font-size:12px\;"><span style="color:#daa520\;"><strong>4 Horse Trainers</strong></span></span></span></li>\n</ul>\n<span style="font-family:tahoma\;"><span style="font-size:12px\;"><span style="color:#8b4513\;"><strong>Come and watch THE ACTION as 4 expert horse trainers compete to gentle and ride 4 unbroke horses in just a few hours using Natural Horsemanship methods.<br />\n<br />\nOn Saturday they have 2 hours and on Sunday 1.5 hours\, then they ride their horse thru an obstacle course. The Judges decide the Winner and a Buckle is awarded. &nbsp\;</strong></span><br />\n<br />\n<strong>Bring your own chairs!</strong></span></span>
LOCATION:Equestrian Center 12740 Pipeline Ave.\, Chino
UID:e.1511.520
SEQUENCE:3
DTSTAMP:20260421T135936Z
URL:https://business.chinovalleychamber.com/events/details/colt-starting-challenge-usa-event-location-change-03-15-2014-520
END:VEVENT

END:VCALENDAR
