BEGIN:VCALENDAR
VERSION:2.0
PRODID:-//ChamberMaster//Event Calendar 2.0//EN
METHOD:PUBLISH
X-PUBLISHED-TTL:P3D
REFRESH-INTERVAL:P3D
CALSCALE:GREGORIAN
BEGIN:VEVENT
DTSTART:20140116T180000Z
DTEND:20140119T050000Z
X-MICROSOFT-CDO-ALLDAYEVENT:FALSE
SUMMARY:Clearance Event
DESCRIPTION:Take an extra 10% off on all Clearance and Closeout appliances\, plus 5% off with Sears Card or 12 Months 0% Financing. (on appliances $499 and above)
X-ALT-DESC;FMTTYPE=text/html:Take an extra 10% off on all Clearance and Closeout appliances\, plus 5% off with Sears Card or 12 Months 0% Financing. (on appliances $499 and above)
LOCATION:Sears Home Appliance Showroom- Chino
UID:e.1511.505
SEQUENCE:3
DTSTAMP:20260421T164123Z
URL:https://business.chinovalleychamber.com/events/details/clearance-event-01-16-2014-505
END:VEVENT

END:VCALENDAR
