BEGIN:VCALENDAR
VERSION:2.0
PRODID:-//ChamberMaster//Event Calendar 2.0//EN
METHOD:PUBLISH
X-PUBLISHED-TTL:P3D
REFRESH-INTERVAL:P3D
CALSCALE:GREGORIAN
BEGIN:VEVENT
DTSTART:20140703T014500Z
DTEND:20140703T031500Z
X-MICROSOFT-CDO-ALLDAYEVENT:FALSE
SUMMARY:City of Chino Hills Presents - Summer '14 Concerts in the Park
DESCRIPTION:Chino Hills - Summer '14 - Concerts in the Park\n\n\n\n2014 Concerts Schedule\n\n\n\nJuly 2 - King Kruk\, Tribute to Elvis\n\nJuly 9 - Soto\, Latin\n\nJuly 16 - Kenny Cetera's Chicago Experience\, Tribute to Chicago             \n\nJuly 23 - Stone Soul\, Motown\n\nJuly 30 - Gold Rush Country\, Contemporary Country\n\n\n\nAugust 6 - Bonfire\, Tribute to AC/DC\n\nAugust 13 - Superlark\, Classic Rock and Roll\n\nAugust 20 - Hard Day's Night\, Tribute to The Beatles\n\n\n\nClick Here to View Full-Size PDF
X-ALT-DESC;FMTTYPE=text/html:<br />\n<span style="font-family:comic sans ms\;"><span style="color:#DAA520\;"><span style="font-family:arial\;"><span style="font-size:16px\;"><span style="font-size:20px\;"><strong>Chino Hills - Summer<span style="font-size:16px\;"><span style="font-size:20px\;"><strong> </strong></span></span>&#39\;14&nbsp\;- Concerts in the Park</strong></span></span></span></span><br />\n<br />\n<strong><span style="font-size:14px\;"><span style="font-family:arial\;">2014 Concerts Schedule</span></span></strong><br />\n<br />\n<span style="font-family:arial\;"><strong>July 2 - King Kruk\, Tribute to Elvis<br />\nJuly 9 - Soto\, Latin<br />\nJuly 16 - Kenny Cetera&#39\;s Chicago Experience\, Tribute to Chicago &nbsp\; &nbsp\; &nbsp\; &nbsp\; &nbsp\; &nbsp\;&nbsp\;<br />\nJuly 23 - Stone Soul\, Motown<br />\nJuly 30 - Gold Rush Country\, Contemporary Country<br />\n<br />\nAugust 6 - Bonfire\, Tribute to AC/DC<br />\nAugust 13 - Superlark\, Classic Rock and Roll<br />\nAugust 20 - Hard Day&#39\;s Night\, Tribute to The Beatles</strong></span></span><br />\n<br />\n<a href="http://cloud.chambermaster.com/userfiles/UserFiles/chambers/1511/File/CHConcerts2014.pdf"><font face="times new roman"><b><u>Click Here to View Full-Size PDF</u></b></font></a><br />\n<br />\n<br />\n&nbsp\;
LOCATION:Veterans Park 14877 Eucalyptus Avenue\, Chino Hills
UID:e.1511.613
SEQUENCE:3
DTSTAMP:20260421T083117Z
URL:https://business.chinovalleychamber.com/events/details/city-of-chino-hills-presents-summer-14-concerts-in-the-park-07-02-2014-613
END:VEVENT

END:VCALENDAR
