BEGIN:VCALENDAR
VERSION:2.0
PRODID:-//ChamberMaster//Event Calendar 2.0//EN
METHOD:PUBLISH
X-PUBLISHED-TTL:P3D
REFRESH-INTERVAL:P3D
CALSCALE:GREGORIAN
BEGIN:VEVENT
DTSTART:20130823T000000Z
DTEND:20130823T013000Z
X-MICROSOFT-CDO-ALLDAYEVENT:FALSE
SUMMARY:City of Chino Hills - Community Center - Program Idea Workshop
DESCRIPTION:The City of Chino Hills is looking for your input regarding the types of activities\, programs and events you would like to see at the new 17\,000 s.f. Community Center set to open in Fall of 2013. This multi-use community center\, next to the McCoy Equestrian and Recreation Center will focus on senior programing during the day and transition to programming for all ages occurring in the afternoons and evenings. Residents who are unable to attend may submit their ideas to marmit@chinohills.org or by calling 909-364-2702
X-ALT-DESC;FMTTYPE=text/html:The City of Chino Hills is looking for your input regarding the types of activities\, programs and events you would like to see at the new 17\,000 s.f. Community Center set to open in Fall of 2013. This multi-use community center\, next to the McCoy Equestrian and Recreation Center will focus on senior programing during the day and transition to programming for all ages occurring in the afternoons and evenings. Residents who are unable to attend may submit their ideas to marmit@chinohills.org or by calling 909-364-2702
LOCATION:Chino Hills City Hall 14000 City Center Drive\, Chino Hills
UID:e.1511.411
SEQUENCE:3
DTSTAMP:20260421T235651Z
URL:https://business.chinovalleychamber.com/events/details/city-of-chino-hills-community-center-program-idea-workshop-08-22-2013-411
END:VEVENT

END:VCALENDAR
