BEGIN:VCALENDAR
VERSION:2.0
PRODID:-//ChamberMaster//Event Calendar 2.0//EN
METHOD:PUBLISH
X-PUBLISHED-TTL:P3D
REFRESH-INTERVAL:P3D
CALSCALE:GREGORIAN
BEGIN:VEVENT
DTSTART:20131204T020000Z
DTEND:20131204T030000Z
X-MICROSOFT-CDO-ALLDAYEVENT:FALSE
SUMMARY:City of Chino - Annual Tree Lighting Ceremony
DESCRIPTION:Please join us as we welcome the Holiday Season to Chino!\n\n\n\nHoliday favorites to be performed by the Chino Community Chorus\n\n\n\nSanta Claus will make a special appearance! (Don't forget a camera for pictures with Santa)\n\n\n\nRefreshments will be served
X-ALT-DESC;FMTTYPE=text/html:<span style="font-size:14px\;"><span style="color:#336699\;"><strong>Please join us as we welcome the Holiday Season to Chino!</strong></span></span><br />\n<br />\n<span style="font-size:12px\;"><span style="font-family:courier new\;"><span style="font-family:verdana\;"><strong>Holiday favorites to be performed by the Chino Community Chorus</strong></span></span></span><br />\n<br />\n<span style="color:#336699\;"><strong>Santa Claus will make a special appearance! (Don&#39\;t forget a camera for pictures with Santa)</strong></span><br />\n<br />\n<strong>Refreshments will be served</strong>
LOCATION:City Hall Lawn 13220 Central Ave.\, Chino
UID:e.1511.476
SEQUENCE:3
DTSTAMP:20260421T182403Z
URL:https://business.chinovalleychamber.com/events/details/city-of-chino-annual-tree-lighting-ceremony-12-03-2013-476
END:VEVENT

END:VCALENDAR
