BEGIN:VCALENDAR
VERSION:2.0
PRODID:-//ChamberMaster//Event Calendar 2.0//EN
METHOD:PUBLISH
X-PUBLISHED-TTL:P3D
REFRESH-INTERVAL:P3D
CALSCALE:GREGORIAN
BEGIN:VEVENT
DTSTART:20130604T003000Z
DTEND:20130604T033000Z
X-MICROSOFT-CDO-ALLDAYEVENT:FALSE
SUMMARY:Chino Youth Museum Bingo Presents Summer Bingo Bash
DESCRIPTION:Bingo includes Dinner and 10 games. All proceeds go to the Chino Youth Museum.
X-ALT-DESC;FMTTYPE=text/html:Bingo includes Dinner and 10 games. All proceeds go to the Chino Youth Museum.
LOCATION:Brinderson Hall @ Chino Fairgrounds 55410 Edison Ave.\, Chino
UID:e.1511.312
SEQUENCE:3
DTSTAMP:20260422T042516Z
URL:https://business.chinovalleychamber.com/events/details/chino-youth-museum-bingo-presents-summer-bingo-bash-06-03-2013-312
END:VEVENT

END:VCALENDAR
