BEGIN:VCALENDAR
VERSION:2.0
PRODID:-//ChamberMaster//Event Calendar 2.0//EN
METHOD:PUBLISH
X-PUBLISHED-TTL:P3D
REFRESH-INTERVAL:P3D
CALSCALE:GREGORIAN
BEGIN:VEVENT
DTSTART:20131214T170000Z
DTEND:20131214T230000Z
X-MICROSOFT-CDO-ALLDAYEVENT:FALSE
SUMMARY:Chino Youth Christmas Parade and Fair
DESCRIPTION:Chino Youth Christmas Parade and Fair - Fun for the entire family!\n\n\n\nCelebrate the holiday season with a float competition celebrating Chino's youth. Immediately following the Parade\, visit City Hall for the Holiday Fair and Carnival. Enjoy thrilling rides\, entertainment by youth and community groups\, delicious food\, and a vendor fair featuring many homemade items and gifts.
X-ALT-DESC;FMTTYPE=text/html:<span style="color:#008000\;"><span style="font-size:14px\;"><span style="font-family:verdana\;"><strong>Chino Youth Christmas Parade and Fair - Fun for the entire family!</strong></span></span></span><br />\n<br />\n<span style="font-size:12px\;"><span style="color:#ff0000\;">Celebrate the holiday season with a float competition celebrating Chino&#39\;s youth. Immediately following the Parade\, visit City Hall for the Holiday Fair and Carnival. Enjoy thrilling rides\, entertainment by youth and community groups\, delicious food\, and a vendor fair featuring many homemade items and gifts.</span></span>
LOCATION:City of Chino 13220 Central Ave.\, Chino Youth Parade - 9:00 AM - Begins at the corner of Monte Vista Avenue and Riverside Drive: ends at City Hall Fair - 9:00 AM - 3:00 PM - In the Senior Center and Library parking lot Carnival - 10:00 AM - 3:00 PM - At the Civic Center on D Street between 7th and 6th Street Family Entertainment - 10:00 AM - 3:00 PM - On the steps of the City Hall at the corner of Central Avenue and D Street Santa Village at Chino Youth Museum - 10:00 AM - 3:00 PM - Located at the corner of 6th and D Street. Free admission to the Museum and get your picture taken with Santa! Great Food - 9:00 AM - 3:00 PM - At the Civic Center at the corner of Central Avenue and D Street
UID:e.1511.479
SEQUENCE:3
DTSTAMP:20260421T182516Z
URL:https://business.chinovalleychamber.com/events/details/chino-youth-christmas-parade-and-fair-12-14-2013-479
END:VEVENT

END:VCALENDAR
