BEGIN:VCALENDAR
VERSION:2.0
PRODID:-//ChamberMaster//Event Calendar 2.0//EN
METHOD:PUBLISH
X-PUBLISHED-TTL:P3D
REFRESH-INTERVAL:P3D
CALSCALE:GREGORIAN
BEGIN:VEVENT
DTSTART:20131118T190000Z
DTEND:20131119T020000Z
X-MICROSOFT-CDO-ALLDAYEVENT:FALSE
SUMMARY:Chino Valley Unified School District - 5th Annual Golf Tournament and State of the District Presentation
DESCRIPTION:5th Annual Golf Tournament and State of the District Presentation\n\n\n\nGolf Registration - Hit the Greens for Scholarships! \n\n\n\nThis year's tournament will be held in conjunction with the CVUSD STATE OF THE DISTRICT PRESENTATION by Sylvia  Orozco at 3:00 PM
X-ALT-DESC;FMTTYPE=text/html:<span style="font-size:14px\;"><strong>5th&nbsp\;Annual Golf Tournament and State of the District Presentation</strong><br />\n<br />\n<strong><span style="color:#ff8c00\;"><span style="font-family:verdana\;">Golf Registration - Hit the Greens for Scholarships!&nbsp\;</span></span><br />\n<br />\n<span style="font-family:verdana\;"><span style="color:#006400\;">This year&#39\;s tournament will be held in conjunction with the </span></span><span style="color:#8b4513\;">CVUSD STATE OF THE DISTRICT PRESENTATION </span><span style="color:#006400\;">by&nbsp\;Sylvia &nbsp\;Orozco at 3:00 PM</span></strong></span><br />\n<br />\n<br />\n
LOCATION:Vellano Country Club 2441 Vellano Club Dr.\, Chino Hills
UID:e.1511.448
SEQUENCE:3
DTSTAMP:20260421T194218Z
URL:https://business.chinovalleychamber.com/events/details/chino-valley-unified-school-district-5th-annual-golf-tournament-and-state-of-the-district-presentation-11-18-2013-448
END:VEVENT

END:VCALENDAR
