BEGIN:VCALENDAR
VERSION:2.0
PRODID:-//ChamberMaster//Event Calendar 2.0//EN
METHOD:PUBLISH
X-PUBLISHED-TTL:P3D
REFRESH-INTERVAL:P3D
CALSCALE:GREGORIAN
BEGIN:VEVENT
DTSTART:20130823T010000Z
DTEND:20130823T020000Z
X-MICROSOFT-CDO-ALLDAYEVENT:FALSE
SUMMARY:Chino Valley Solar Program Webinar
DESCRIPTION:Chino Valley Solar Program is hosting a free informational webinar on Thursday 8/22. From the comfort of your own home you can learn about solar technology\, state rebates\, case studies and the Chino Valley Solar Program. Chino Valley?s Solar Program enables all property owners in Chino and Chino Hills to go solar for no money upfront and receive cash back incentives. The Program closes on August 30. To register for the webinar please visit: http://www.anymeeting.com/PIID=E958DE82864F38
X-ALT-DESC;FMTTYPE=text/html:Chino Valley Solar Program is hosting a free informational webinar on Thursday 8/22.&nbsp\;From the comfort of your own home you can learn about solar technology\, state rebates\, case studies and the Chino Valley Solar Program. Chino Valley?s Solar Program enables all property owners in Chino and Chino Hills to go solar for no money upfront and receive cash back incentives. The Program closes on August 30. To register for the webinar please visit: http://www.anymeeting.com/PIID=E958DE82864F38&nbsp\;
LOCATION:Online
UID:e.1511.412
SEQUENCE:3
DTSTAMP:20260421T234948Z
URL:https://business.chinovalleychamber.com/events/details/chino-valley-solar-program-webinar-08-22-2013-412
END:VEVENT

END:VCALENDAR
