BEGIN:VCALENDAR
VERSION:2.0
PRODID:-//ChamberMaster//Event Calendar 2.0//EN
METHOD:PUBLISH
X-PUBLISHED-TTL:P3D
REFRESH-INTERVAL:P3D
CALSCALE:GREGORIAN
BEGIN:VEVENT
DTSTART:20130720T180000Z
DTEND:20130720T190000Z
X-MICROSOFT-CDO-ALLDAYEVENT:FALSE
SUMMARY:Chino Valley Solar Program Luncheon
DESCRIPTION:This informational presentation will cover solar technology\, rebates\, incentives\, case studies and Chino Valley?s Solar Program (valid through 8/30/13). This Program allows property owners in Chino and Chino Hills  to go solar for $0 down and participants will be eligible for cash back incentives up to $2\,500.The seminar will last approximately one hour and refreshments will be provided. Attendance is not required to participate. Visit ChinoValleySolarProgram.org or call 1-800-785-5482 for more information. RSVP appreciated: Judy.Ramos@SullivanSolarPower.com
X-ALT-DESC;FMTTYPE=text/html:This informational presentation will cover solar technology\, rebates\, incentives\, case studies and Chino Valley?s Solar Program (valid through 8/30/13). This Program allows property owners in Chino and Chino Hills &nbsp\;to go solar for $0 down and participants will be eligible for cash back incentives up to $2\,500.The seminar will last approximately one hour and refreshments will be provided. Attendance is not required to participate. Visit ChinoValleySolarProgram.org or call 1-800-785-5482 for more information. RSVP appreciated: Judy.Ramos@SullivanSolarPower.com 
LOCATION:McCoy Equestrian & Recreation Center (14280 Peyton Dr\, Chino Hills 91709)
UID:e.1511.366
SEQUENCE:3
DTSTAMP:20260422T011445Z
URL:https://business.chinovalleychamber.com/events/details/chino-valley-solar-program-luncheon-07-20-2013-366
END:VEVENT

END:VCALENDAR
