BEGIN:VCALENDAR
VERSION:2.0
PRODID:-//ChamberMaster//Event Calendar 2.0//EN
METHOD:PUBLISH
X-PUBLISHED-TTL:P3D
REFRESH-INTERVAL:P3D
CALSCALE:GREGORIAN
BEGIN:VEVENT
DTSTART:20130622T180000Z
DTEND:20130622T190000Z
X-MICROSOFT-CDO-ALLDAYEVENT:FALSE
SUMMARY:Chino Valley Solar Program
DESCRIPTION:This informational presentation will cover solar technology\, rebates\, incentives\, case studies and Chino Valley's Solar Program (valid through 8/30/13). This program allows property owners in Chino and Chino Hills to go solar for $0 down and participants will be eligible for cash back incentives up to $2\,500. The seminar will last approximately one hour and refreshments will be provided. Attendance is not required to participate. Visit ChinoValleySolarProgram.org or call 1-800-785-5482 for more information. RSVP appreciated: Judy.Ramos@SullivanSolarPower.com\n\n\n\n12:30 PM - 1:00 PM - Ribbon Cutting
X-ALT-DESC;FMTTYPE=text/html:This informational presentation will cover solar technology\, rebates\, incentives\, case studies and Chino Valley&#39\;s Solar Program (valid through 8/30/13). This program allows property owners in Chino and Chino Hills to go solar for $0 down and participants will be eligible for cash back incentives up to $2\,500. The seminar will last approximately one hour and refreshments will be provided. Attendance is not required to participate. Visit ChinoValleySolarProgram.org or call 1-800-785-5482 for more information. RSVP appreciated: Judy.Ramos@SullivanSolarPower.com<br />\n<br />\n12:30 PM - 1:00 PM - Ribbon Cutting 
LOCATION:McCoy Equestrian & Recreation Center (14280 Peyton Dr\, Chino Hills 91709)
UID:e.1511.329
SEQUENCE:3
DTSTAMP:20260422T024458Z
URL:https://business.chinovalleychamber.com/events/details/chino-valley-solar-program-06-22-2013-329
END:VEVENT

END:VCALENDAR
