BEGIN:VCALENDAR
VERSION:2.0
PRODID:-//ChamberMaster//Event Calendar 2.0//EN
METHOD:PUBLISH
X-PUBLISHED-TTL:P3D
REFRESH-INTERVAL:P3D
CALSCALE:GREGORIAN
BEGIN:VEVENT
DTSTART:20140225T200000Z
DTEND:20140225T220000Z
X-MICROSOFT-CDO-ALLDAYEVENT:FALSE
SUMMARY:Chino Valley Medical Center Presents Love Your Heart
DESCRIPTION:Chino Valley Medical Center Presents\n\nLove your Heart\n\n\n\nCome and join us for a fun and education seminar around Heart Health.\n\n\n\nEnjoy heart healthy hors d'eouvres and a chance to win prizes.\n\n\n\nGuest Speaker: Monique Stensrud with American Heart Association Speaking on Heart Disease and Women.
X-ALT-DESC;FMTTYPE=text/html:<br />\n<strong>Chino Valley Medical Center Presents<br />\n<em><span style="font-size:14px\;"><span style="font-family:comic sans ms\;"><span style="color:#ff0000\;">Love your Heart</span></span></span></em><br />\n<br />\nCome and join us for a fun and education seminar around Heart Health.<br />\n<br />\nEnjoy heart healthy hors d&#39\;eouvres&nbsp\;and a chance to win prizes.<br />\n<br />\n<span style="color:#ff0000\;">Guest Speaker: Monique Stensrud with American Heart Association Speaking on Heart Disease and Women.&nbsp\;</span></strong><br />\n<br />\n
LOCATION:Chino Valley Medical Center 5451 Walnut Ave.\, Chino
UID:e.1511.531
SEQUENCE:3
DTSTAMP:20260421T153524Z
URL:https://business.chinovalleychamber.com/events/details/chino-valley-medical-center-presents-love-your-heart-02-25-2014-531
END:VEVENT

END:VCALENDAR
