BEGIN:VCALENDAR
VERSION:2.0
PRODID:-//ChamberMaster//Event Calendar 2.0//EN
METHOD:PUBLISH
X-PUBLISHED-TTL:P3D
REFRESH-INTERVAL:P3D
CALSCALE:GREGORIAN
BEGIN:VEVENT
DTSTART:20141016T020000Z
DTEND:20141016T040000Z
X-MICROSOFT-CDO-ALLDAYEVENT:FALSE
SUMMARY:Chino Valley Medical Center - Breast Cancer Awareness Month - Breast Health Seminar
DESCRIPTION:Chino Valley Medical Center - Breast Awareness Month - Breast Health Seminar\n\n\n\nWith Guest Speakers:\n\nMartha Osborne\, RN BSN\, OCN - Pomona Valley Medical Center\, Family Cancer Care Center\n\n&\n\nJulie Davenport a Breast Cancer Survivor\n\n\n\nRaffles\, Vendors and Refreshments - Free Pink Ribbon Gifts\n\n\n\nClick Here to View Full-Size PDF
X-ALT-DESC;FMTTYPE=text/html:<span style="color:#cc6666\;"><strong><span style="font-size:14px\;">Chino Valley Medical Center - Breast Awareness Month - Breast Health Seminar</span></strong></span><br />\n<br />\n<strong>With Guest Speakers:<br />\nMartha Osborne\, RN BSN\, OCN&nbsp\;- Pomona Valley Medical Center\, Family Cancer Care Center<br />\n&amp\;<br />\nJulie Davenport a Breast Cancer Survivor</strong><br />\n<br />\n<span style="color:#cc6666\;"><strong>Raffles\, Vendors and Refreshments - Free Pink Ribbon Gifts</strong></span><br />\n<br />\n<a href="http://cloud.chambermaster.com/userfiles/UserFiles/chambers/1511/File/CVMCbcaSeminar20141015.pdf">Click Here to View Full-Size PDF</a><br />\n<br />\n<br />\n&nbsp\;
LOCATION:Chino Valley Medical Center 5451 Walnut Ave.\, Chino (in the Conference Room)
UID:e.1511.687
SEQUENCE:3
DTSTAMP:20260421T083051Z
URL:https://business.chinovalleychamber.com/events/details/chino-valley-medical-center-breast-cancer-awareness-month-breast-health-seminar-10-15-2014-687
END:VEVENT

END:VCALENDAR
