BEGIN:VCALENDAR
VERSION:2.0
PRODID:-//ChamberMaster//Event Calendar 2.0//EN
METHOD:PUBLISH
X-PUBLISHED-TTL:P3D
REFRESH-INTERVAL:P3D
CALSCALE:GREGORIAN
BEGIN:VEVENT
DTSTART:20130730T010000Z
DTEND:20130730T033000Z
X-MICROSOFT-CDO-ALLDAYEVENT:FALSE
SUMMARY:Chino Valley Independent Fire District Voters' Forum
DESCRIPTION:Voters' Forum for the Chino Valley Independent Fire District Positions. The purpose of this non-partisan forum is to allow residents the opportunity to learn more about the candidate's qualifications\, personal attributes and views prior to the August election.
X-ALT-DESC;FMTTYPE=text/html:Voters&#39\; Forum for the Chino Valley Independent Fire District Positions. The purpose of this non-partisan forum is to allow residents the opportunity to learn more about the candidate&#39\;s qualifications\, personal attributes and views prior to the&nbsp\;August election.
LOCATION:Chino City Council Chambers 13220 Central Ave.\, Chino
UID:e.1511.390
SEQUENCE:3
DTSTAMP:20260422T011645Z
URL:https://business.chinovalleychamber.com/events/details/chino-valley-independent-fire-district-voters-forum-07-29-2013-390
END:VEVENT

END:VCALENDAR
