BEGIN:VCALENDAR
VERSION:2.0
PRODID:-//ChamberMaster//Event Calendar 2.0//EN
METHOD:PUBLISH
X-PUBLISHED-TTL:P3D
REFRESH-INTERVAL:P3D
CALSCALE:GREGORIAN
BEGIN:VEVENT
DTSTART:20130809T000000Z
DTEND:20130809T030000Z
X-MICROSOFT-CDO-ALLDAYEVENT:FALSE
SUMMARY:Chino Valley Chamber of Commerce - TASTE OF THE CHINO VALLEY - POSTPONED TO MARCH 31\, 2014
DESCRIPTION:
X-ALT-DESC;FMTTYPE=text/html:
LOCATION:
UID:e.1511.367
SEQUENCE:3
DTSTAMP:20260421T235901Z
URL:https://business.chinovalleychamber.com/events/details/chino-valley-chamber-of-commerce-taste-of-the-chino-valley-postponed-to-march-31-2014-08-08-2013-367
END:VEVENT

END:VCALENDAR
