BEGIN:VCALENDAR
VERSION:2.0
PRODID:-//ChamberMaster//Event Calendar 2.0//EN
METHOD:PUBLISH
X-PUBLISHED-TTL:P3D
REFRESH-INTERVAL:P3D
CALSCALE:GREGORIAN
BEGIN:VEVENT
DTSTART:20131206T193000Z
DTEND:20131206T213000Z
X-MICROSOFT-CDO-ALLDAYEVENT:FALSE
SUMMARY:Chino Valley Chamber of Commerce Presents our Annual Holiday Luncheon
DESCRIPTION:Chino Valley Chamber of Commerce \n\nAnnual Holiday Luncheon\n\n\n\nLuncheon Includes:\n\nTri-Tip and Turkey Holiday Lunch\n\nHoliday Entertainment\n\nOpportunity Drawings\n\n50/50 Drawing Opportunity \n\n*Charity Donation Opportunity \n\n\n\n*Charity Donations will benefit Isaiah's Rock (Each non-perishable food item can be redeemed for 1 raffle ticket and each unwrapped gift valued at $20 can be redeemed for 3 raffle tickets)
X-ALT-DESC;FMTTYPE=text/html:<span style="font-size:14px\;"><span style="color:#008000\;"><strong><span style="font-family:tahoma\;">Chino Valley Chamber of Commerce </span></strong></span></span><br />\n<span style="font-size:16px\;"><strong style="font-size: 14px\; color: rgb(178\, 34\, 34)\;"><span style="font-family:verdana\;">Annual Holiday Luncheon</span></strong></span><br />\n<br />\n<strong><span style="color:#008000\;">Luncheon Includes:</span><br />\nTri-Tip and Turkey Holiday Lunch<br />\nHoliday Entertainment</strong><br />\n<strong>Opportunity Drawings<br />\n50/50 Drawing Opportunity&nbsp\;<br />\n*Charity Donation Opportunity&nbsp\;</strong><br />\n<br />\n<strong>*Charity Donations will benefit Isaiah&#39\;s Rock (Each non-perishable food item can be redeemed for 1 raffle ticket and each unwrapped gift valued at $20 can be redeemed for 3 raffle tickets)</strong><br />\n<br />\n&nbsp\;
LOCATION:Los Serranos Country Club 15656 Yorba Ave.\, Chino Hills
UID:e.1511.380
SEQUENCE:3
DTSTAMP:20260421T194406Z
URL:https://business.chinovalleychamber.com/events/details/chino-valley-chamber-of-commerce-presents-our-annual-holiday-luncheon-12-06-2013-380
END:VEVENT

END:VCALENDAR
