BEGIN:VCALENDAR
VERSION:2.0
PRODID:-//ChamberMaster//Event Calendar 2.0//EN
METHOD:PUBLISH
X-PUBLISHED-TTL:P3D
REFRESH-INTERVAL:P3D
CALSCALE:GREGORIAN
BEGIN:VEVENT
DTSTART:20130629T003000Z
DTEND:20130629T030000Z
X-MICROSOFT-CDO-ALLDAYEVENT:FALSE
SUMMARY:Chino Valley Chamber of Commerce Presents: Its Annual Installation and Recognitation Dinner
DESCRIPTION:Chino Valley Chamber of Commerce: Annual Installation and Recognition Dinner
X-ALT-DESC;FMTTYPE=text/html:Chino Valley Chamber of Commerce: Annual Installation and Recognition Dinner
LOCATION:Planes of Fame\, Chino Airport 7000 Merrill Avenue\, #17 Chino
UID:e.1511.324
SEQUENCE:3
DTSTAMP:20260422T024947Z
URL:https://business.chinovalleychamber.com/events/details/chino-valley-chamber-of-commerce-presents-its-annual-installation-and-recognitation-dinner-06-28-2013-324
END:VEVENT

END:VCALENDAR
