BEGIN:VCALENDAR
VERSION:2.0
PRODID:-//ChamberMaster//Event Calendar 2.0//EN
METHOD:PUBLISH
X-PUBLISHED-TTL:P3D
REFRESH-INTERVAL:P3D
CALSCALE:GREGORIAN
BEGIN:VEVENT
DTSTART:20140722T183000Z
DTEND:20140722T210000Z
X-MICROSOFT-CDO-ALLDAYEVENT:FALSE
SUMMARY:Chino Valley Chamber of Commerce Presents: 2014 Installation and Recognition Luncheon
DESCRIPTION:Chino Valley Chamber of Commerce - 2014 Installation and Recognition Luncheon\n\n\n\nClick Here to View Full-Size PDF
X-ALT-DESC;FMTTYPE=text/html:<strong><span style="color:#B22222\;">Chino Valley Chamber of Commerce - 2014 Installation and Recognition Luncheon</span></strong><br />\n<br />\n<a href="http://cloud.chambermaster.com/userfiles/UserFiles/chambers/1511/File/NewDate31.pdf">Click Here to View Full-Size PDF</a>
LOCATION:Chino Hills Community Center 14250 Peyton Drive\, Chino Hills
UID:e.1511.611
SEQUENCE:3
DTSTAMP:20260421T082643Z
URL:https://business.chinovalleychamber.com/events/details/chino-valley-chamber-of-commerce-presents-2014-installation-and-recognition-luncheon-07-22-2014-611
END:VEVENT

END:VCALENDAR
