BEGIN:VCALENDAR
VERSION:2.0
PRODID:-//ChamberMaster//Event Calendar 2.0//EN
METHOD:PUBLISH
X-PUBLISHED-TTL:P3D
REFRESH-INTERVAL:P3D
CALSCALE:GREGORIAN
BEGIN:VEVENT
DTSTART:20140221T013000Z
DTEND:20140221T033000Z
X-MICROSOFT-CDO-ALLDAYEVENT:FALSE
SUMMARY:Chino Valley Chamber of Commerce & Edward Jones Mixer / Open House
DESCRIPTION:Your Invited - Edward Jones - Scott Foties\n\n\n\nWe are happy to be a part of the Chino/Chino Hills Community. Please mark your calendar for our upcoming open house. Your family and friends are welcome to join us for this celebration.\n\n\n\nRefreshments and light snacks will be served.
X-ALT-DESC;FMTTYPE=text/html:<br />\n<strong><span style="color:#4b0082\;"><span style="font-family:tahoma\;">Your Invited - Edward Jones - Scott Foties</span></span></strong><br />\n<br />\n<span style="color:#4b0082\;"><span style="font-family:tahoma\;">We are happy to be a part of the Chino/Chino Hills Community. Please mark your calendar for our upcoming open house. Your family and friends are welcome to join us for this celebration.<br />\n<br />\nRefreshments and light snacks will be served.</span></span>
LOCATION:Edward Jones - Scott Foties 2560 Grand Ave.\, Suite M\, Chino Hills (directly behind Sprouts market)
UID:e.1511.524
SEQUENCE:3
DTSTAMP:20260421T152741Z
URL:https://business.chinovalleychamber.com/events/details/chino-valley-chamber-of-commerce-edward-jones-mixer-open-house-02-20-2014-524
END:VEVENT

END:VCALENDAR
