BEGIN:VCALENDAR
VERSION:2.0
PRODID:-//ChamberMaster//Event Calendar 2.0//EN
METHOD:PUBLISH
X-PUBLISHED-TTL:P3D
REFRESH-INTERVAL:P3D
CALSCALE:GREGORIAN
BEGIN:VEVENT
DTSTART:20131220T010000Z
DTEND:20131220T030000Z
X-MICROSOFT-CDO-ALLDAYEVENT:FALSE
SUMMARY:Chino Valley Chamber of Commerce & Chino Hills Ford Holiday Mixer
DESCRIPTION:Chino Hills Ford appreciates you\, your service to the community as a member of the Chino Valley Chamber of Commerce and extends this invitation to a Holiday Mixer.\n\n\n\nCome and enjoy Holiday Food & Festivities as you mix and mingle with fellow business professionals.\n\n\n\nWe understand the holidays are a busy time for everyone but certainly hope you can take a few minutes to come by.\n\n\n\nWe look forward to seeing you!
X-ALT-DESC;FMTTYPE=text/html:<span style="color:#000080\;">Chino Hills Ford appreciates you\, your service to the community as a member of the Chino Valley Chamber of Commerce and extends this invitation to a Holiday Mixer.<br />\n<br />\nCome and enjoy Holiday Food &amp\; Festivities as you mix and mingle with fellow business professionals.<br />\n<br />\nWe understand the holidays are a busy time for everyone but certainly hope you can take a few minutes to come by.<br />\n<br />\nWe look forward to seeing you!</span>
LOCATION:Chino Hills Ford 4480 Chino Hills Parkway\, Chino
UID:e.1511.483
SEQUENCE:3
DTSTAMP:20260421T194339Z
URL:https://business.chinovalleychamber.com/events/details/chino-valley-chamber-of-commerce-chino-hills-ford-holiday-mixer-12-19-2013-483
END:VEVENT

END:VCALENDAR
