BEGIN:VCALENDAR
VERSION:2.0
PRODID:-//ChamberMaster//Event Calendar 2.0//EN
METHOD:PUBLISH
X-PUBLISHED-TTL:P3D
REFRESH-INTERVAL:P3D
CALSCALE:GREGORIAN
BEGIN:VEVENT
DTSTART:20140124T013000Z
DTEND:20140124T033000Z
X-MICROSOFT-CDO-ALLDAYEVENT:FALSE
SUMMARY:Chino Valley Chamber of Commerce & Chino Commercial Bank January Mixer
DESCRIPTION:Chino Valley Chamber of Commerce & Chino Commercial Bank invite you to our Annual January Mixer and Classic Car Show.\n\n\n\nMusic - Food - Prizes!\n\n\n\nCome and enjoy as you mix and mingle with fellow business professionals.
X-ALT-DESC;FMTTYPE=text/html:<span style="color: rgb(0\, 0\, 205)\;">Chino Valley Chamber of Commerce &amp\; Chino Commercial Bank invite you to our Annual January Mixer and Classic Car Show.</span><br />\n<br />\n<span style="color: rgb(255\, 0\, 0)\;"><span style="font-size: 14px\;">Music - Food - Prizes!</span></span><br />\n<br />\n<span style="color: rgb(0\, 0\, 205)\;">Come and enjoy as you mix and mingle with fellow business professionals.</span><br />\n<br />\n
LOCATION:Chino Commercial Bank 14245 Pipeline Ave.\, Chino
UID:e.1511.501
SEQUENCE:3
DTSTAMP:20260421T165512Z
URL:https://business.chinovalleychamber.com/events/details/chino-valley-chamber-of-commerce-chino-commercial-bank-january-mixer-01-23-2014-501
END:VEVENT

END:VCALENDAR
