BEGIN:VCALENDAR
VERSION:2.0
PRODID:-//ChamberMaster//Event Calendar 2.0//EN
METHOD:PUBLISH
X-PUBLISHED-TTL:P3D
REFRESH-INTERVAL:P3D
CALSCALE:GREGORIAN
BEGIN:VEVENT
DTSTART:20141025T000000Z
DTEND:20141025T020000Z
X-MICROSOFT-CDO-ALLDAYEVENT:FALSE
SUMMARY:Chino Valley Chamber of Commerce Business Expo Mixer
DESCRIPTION:Chino Valley Chamber of Commerce - Business Expo Mixer\n\nPrivate Party Open Only to Sponsors\, Exhibitors\, Chamber Members & Invited Guests\n\n\n\nCome Mix and Mingle with The VIP's and Local Businesses\n\n\n\nFood\, Entertainment\, Raffle Prizes\n\n\n\nClick Here to View Full-Size PDF
X-ALT-DESC;FMTTYPE=text/html:<strong><span style="font-size:14px\;"><span style="color:#336699\;">Chino Valley Chamber of Commerce - Business Expo Mixer</span></span></strong><br />\n<strong>Private Party Open Only to Sponsors\, Exhibitors\, Chamber Members &amp\; Invited Guests<br />\n<br />\n<span style="color:#336699\;">Come Mix and Mingle with The VIP&#39\;s and Local Businesses</span><br />\n<br />\nFood\, Entertainment\, Raffle Prizes<br />\n<br />\n<a href="http://cloud.chambermaster.com/userfiles/UserFiles/chambers/1511/File/Mixerflyer.pdf">Click Here to View Full-Size PDF</a></strong>
LOCATION:Chamber Office (In the Chamber Office Parking Lot behind the building) 13150 7th Street\, Chino
UID:e.1511.671
SEQUENCE:3
DTSTAMP:20260419T134232Z
URL:https://business.chinovalleychamber.com/events/details/chino-valley-chamber-of-commerce-business-expo-mixer-10-24-2014-671
END:VEVENT

END:VCALENDAR
