BEGIN:VCALENDAR
VERSION:2.0
PRODID:-//ChamberMaster//Event Calendar 2.0//EN
METHOD:PUBLISH
X-PUBLISHED-TTL:P3D
REFRESH-INTERVAL:P3D
CALSCALE:GREGORIAN
BEGIN:VEVENT
DTSTART:20140401T000000Z
DTEND:20140401T030000Z
X-MICROSOFT-CDO-ALLDAYEVENT:FALSE
SUMMARY:Chino Valley Chamber of Commerce - 17th Annual Taste of the Chino Valley
DESCRIPTION:17th Annual Taste of the Chino Valley\n\nCome sample selections from a variety of restaurants representing the best of Chino Valley's diverse cuisine. Enjoy great food from some of the area's new restaurants as well as some of our long standing favorites.
X-ALT-DESC;FMTTYPE=text/html:<span style="font-size: 12px\;"><span style="color: rgb(0\, 0\, 205)\;"><span style="font-size: 14px\;"><strong>17th&nbsp\;Annual Taste of the Chino Valley</strong></span></span><br />\n<strong><span style="color:#006400\;">Come sample selections from a variety of restaurants representing the best of Chino Valley&#39\;s diverse cuisine. Enjoy great food from some of the area&#39\;s new restaurants as well as some of our long standing favorites.</span></strong></span>
LOCATION:Chaffey College - Chino Community Center 5890 College Park Ave.\, Chino
UID:e.1511.378
SEQUENCE:3
DTSTAMP:20260421T140438Z
URL:https://business.chinovalleychamber.com/events/details/chino-valley-chamber-of-commerce-17th-annual-taste-of-the-chino-valley-03-31-2014-378
END:VEVENT

END:VCALENDAR
