BEGIN:VCALENDAR
VERSION:2.0
PRODID:-//ChamberMaster//Event Calendar 2.0//EN
METHOD:PUBLISH
X-PUBLISHED-TTL:P3D
REFRESH-INTERVAL:P3D
CALSCALE:GREGORIAN
BEGIN:VEVENT
DTSTART:20131026T000000Z
DTEND:20131026T040000Z
X-MICROSOFT-CDO-ALLDAYEVENT:FALSE
SUMMARY:Chino Valley Business Expo 2013 - The Shoppes at Chino Hills
DESCRIPTION:Chino Valley Business Expo 2013 - The Shoppes at Chino Hills\n\n\n\nThe point of the Business Expo is to connect Chino Valley residents with local businesses so they can learn what is available to them locally.\n\n\n\nTo sign-up for a Booth or Sponsorship or for additional information\, please call the Chamber office 909-627-6177 or email vfinklestein@chinovalleychamber.com
X-ALT-DESC;FMTTYPE=text/html:<span style="font-family:verdana\;"><span style="font-size:14px\;">Chino Valley Business Expo 2013 - The Shoppes at Chino Hills</span><br />\n<br />\nThe point of the Business Expo is to connect Chino Valley residents with local businesses so they can learn what is available to them locally.<br />\n<br />\nTo sign-up for a Booth or Sponsorship or for additional information\, please call the Chamber office 909-627-6177 or email vfinklestein@chinovalleychamber.com</span>
LOCATION:The Shoppes at Chino Hills (Corner of Grand & Peyton Avenues. On the Promenade) 13920 City Center Drive\, Chino Hills\, CA
UID:e.1511.382
SEQUENCE:3
DTSTAMP:20260421T223501Z
URL:https://business.chinovalleychamber.com/events/details/chino-valley-business-expo-2013-the-shoppes-at-chino-hills-10-25-2013-382
END:VEVENT

END:VCALENDAR
