BEGIN:VCALENDAR
VERSION:2.0
PRODID:-//ChamberMaster//Event Calendar 2.0//EN
METHOD:PUBLISH
X-PUBLISHED-TTL:P3D
REFRESH-INTERVAL:P3D
CALSCALE:GREGORIAN
BEGIN:VEVENT
DTSTART:20140619T183000Z
DTEND:20140619T203000Z
X-MICROSOFT-CDO-ALLDAYEVENT:FALSE
SUMMARY:Chino State of the City
DESCRIPTION:Chino State of the City - Address and Luncheon with Mayor Dennis Yates Presenting "Chino on the Move"\n\n \nClick Here to View Full-Size PDF
X-ALT-DESC;FMTTYPE=text/html:<span style="color: rgb(0\, 100\, 0)\;"><strong><span style="font-size: 14px\;"><span style="font-family: verdana\;">Chino State of the City - Address and Luncheon with Mayor Dennis Yates Presenting &quot\;Chino on the Move&quot\;</span></span></strong></span><br />\n&nbsp\;\n<div style="text-align: center\;"><a href="http://cloud.chambermaster.com/userfiles/UserFiles/chambers/1511/File/InvitewithSponsors3.pdf">Click Here to View Full-Size PDF</a></div>\n&nbsp\;\n\n<div style="text-align: center\;">&nbsp\;</div>\n
LOCATION:Chaffey College Chino Community Center 5890 College Park Avenue\, Chino
UID:e.1511.584
SEQUENCE:3
DTSTAMP:20260419T125822Z
URL:https://business.chinovalleychamber.com/events/details/chino-state-of-the-city-06-19-2014-584
END:VEVENT

END:VCALENDAR
