BEGIN:VCALENDAR
VERSION:2.0
PRODID:-//ChamberMaster//Event Calendar 2.0//EN
METHOD:PUBLISH
X-PUBLISHED-TTL:P3D
REFRESH-INTERVAL:P3D
CALSCALE:GREGORIAN
BEGIN:VEVENT
DTSTART:20130215T023000Z
DTEND:20130215T023000Z
X-MICROSOFT-CDO-ALLDAYEVENT:FALSE
SUMMARY:Chino Rotary "Valentines Wine Tasting"
DESCRIPTION:Sample great food\, beer and wine and raise money for District 5300's International Project of raising funds for educational opportunities for girls in India.
X-ALT-DESC;FMTTYPE=text/html:Sample great food\, beer and wine and raise money for District 5300&#39\;s International Project of raising funds for educational opportunities for girls in India.
LOCATION:Event to be held at the home of: Jim & Silvia Chavez 4068 Mira Mesa Ave. Chino\, CA 91710
UID:e.1511.8
SEQUENCE:3
DTSTAMP:20260422T103321Z
URL:https://business.chinovalleychamber.com/events/details/chino-rotary-valentines-wine-tasting-02-14-2013-8
END:VEVENT

END:VCALENDAR
