BEGIN:VCALENDAR
VERSION:2.0
PRODID:-//ChamberMaster//Event Calendar 2.0//EN
METHOD:PUBLISH
X-PUBLISHED-TTL:P3D
REFRESH-INTERVAL:P3D
CALSCALE:GREGORIAN
BEGIN:VEVENT
DTSTART:20131005T233000Z
DTEND:20131006T043000Z
X-MICROSOFT-CDO-ALLDAYEVENT:FALSE
SUMMARY:Chino Rotary - Roctoberfest 2013
DESCRIPTION:Chino Rotary - Celebrating 88 years of service to the Chino Valley!\n\n\n\nRoctoberfest - 2013\n\n\n\nLive Auction\, Silent Auction\n\n\n\nFood by Roscoe's Famous Deli - Bratwurst\, Sausage\, Sauerkraut and More!\n\n\n\nEntertainment - Chris Daniels Project\n\n\n\nJoin us in our mission to eradicate poverty\, illiteracy\, hunger and disease both worldwide and in our community.
X-ALT-DESC;FMTTYPE=text/html:<strong><span style="font-size: 14px\;"><span style="font-family: arial\;"><span style="color: rgb(0\, 0\, 128)\;">Chino Rotary - Celebrating 88 years of service to the Chino Valley!</span></span><br />\n<br />\n<span style="font-size: 16px\;"><em><span style="color: rgb(255\, 140\, 0)\;"><span style="font-family: verdana\;">Roctoberfest - 2013</span></span><br />\n<br />\n<span style="font-size:14px\;"><span style="color: rgb(165\, 42\, 42)\;"><span style="font-family: verdana\;">Live Auction\, Silent Auction</span></span></span></em></span></span><br />\n<br />\n<span style="font-size:14px\;"><span style="font-family:comic sans ms\;">Food by Roscoe&#39\;s Famous Deli - Bratwurst\, Sausage\, Sauerkraut and More!</span></span><br />\n<br />\n<span style="font-size:14px\;"><span style="color: rgb(0\, 0\, 128)\;">Entertainment -</span><span style="color: rgb(128\, 0\, 0)\;"> Chris Daniels Project</span></span></strong><br />\n<br />\n<strong><span style="color: rgb(0\, 0\, 128)\;">Join us in our mission to eradicate poverty\, illiteracy\, hunger and disease both worldwide and in our community.</span></strong><br />\n<br />\n
LOCATION:Chino Fairgrounds 5410 Edison Ave.\, Chino
UID:e.1511.421
SEQUENCE:3
DTSTAMP:20260421T210526Z
URL:https://business.chinovalleychamber.com/events/details/chino-rotary-roctoberfest-2013-10-05-2013-421
END:VEVENT

END:VCALENDAR
