BEGIN:VCALENDAR
VERSION:2.0
PRODID:-//ChamberMaster//Event Calendar 2.0//EN
METHOD:PUBLISH
X-PUBLISHED-TTL:P3D
REFRESH-INTERVAL:P3D
CALSCALE:GREGORIAN
BEGIN:VEVENT
DTSTART:20140711T020000Z
DTEND:20140711T040000Z
X-MICROSOFT-CDO-ALLDAYEVENT:FALSE
SUMMARY:Chino Kiwanis Club of Chino and the City of Chino Present - Concerts on the Lawn
DESCRIPTION:Kiwanis Club of Chino and the City of Chino Present\n\nChino Concerts on the Lawn\n\n\n\n2014 Concerts Schedule\n\n\n\nJuly 10 - Eclipse Rewound\, A Tribute to the 80's\n\nJuly 17 - Blue Breeze Band\, Finest in Motown & R&B\n\nJuly 24 - Led Zepagain\, A Tribute to Led Zeppelin\n\nJuly 31 - DSB\, America's Favorite Tribute to Journey\n\n\n\nAugust 7 - Suave The Band\, Latin Rock\n\nAugust 14 - Jumping Jack Flash\, World's Greatest Rolling Stones Live Concert Re-Creation\n\n\n\nClick Here to View Full-Size PDF
X-ALT-DESC;FMTTYPE=text/html:<span style="color:#336699\;"><strong>Kiwanis Club of Chino and the City of Chino Present<br />\nChino Concerts on the Lawn</strong></span><br />\n<br />\n<strong>2014 Concerts Schedule</strong><br />\n<br />\n<strong>July 10 - Eclipse Rewound\, A Tribute to the 80&#39\;s<br />\nJuly 17 - Blue Breeze Band\, Finest in Motown &amp\; R&amp\;B<br />\nJuly 24 - Led Zepagain\, A Tribute to Led Zeppelin<br />\nJuly 31 - DSB\, America&#39\;s Favorite Tribute to Journey</strong><br />\n<br />\n<strong>August 7 - Suave The Band\, Latin Rock<br />\nAugust 14 - Jumping Jack Flash\, World&#39\;s Greatest Rolling Stones Live Concert Re-Creation</strong><br />\n<br />\n<a href="http://cloud.chambermaster.com/userfiles/UserFiles/chambers/1511/File/KiwanisConcerts_2014_OfficialPoster.pdf">Click Here to View Full-Size PDF</a><br />\n&nbsp\;
LOCATION:Chino Civic Center lawn 13220 Central Ave.\, Chino
UID:e.1511.615
SEQUENCE:3
DTSTAMP:20260421T083051Z
URL:https://business.chinovalleychamber.com/events/details/chino-kiwanis-club-of-chino-and-the-city-of-chino-present-concerts-on-the-lawn-07-10-2014-615
END:VEVENT

END:VCALENDAR
