BEGIN:VCALENDAR
VERSION:2.0
PRODID:-//ChamberMaster//Event Calendar 2.0//EN
METHOD:PUBLISH
X-PUBLISHED-TTL:P3D
REFRESH-INTERVAL:P3D
CALSCALE:GREGORIAN
BEGIN:VEVENT
DTSTART:20130222T013000Z
DTEND:20130222T050000Z
X-MICROSOFT-CDO-ALLDAYEVENT:FALSE
SUMMARY:Chino Kiwanis Annual Bunco and Dessert Night
DESCRIPTION:Proceeds go to the Citizens of Chino\n\nFun for all ages (over 18)
X-ALT-DESC;FMTTYPE=text/html:Proceeds go to the Citizens of Chino<br />\nFun for all ages (over 18)
LOCATION:Chino Senior Center 13170 Central Ave Chino\, CA 91710
UID:e.1511.5
SEQUENCE:3
DTSTAMP:20260422T085133Z
URL:https://business.chinovalleychamber.com/events/details/chino-kiwanis-annual-bunco-and-dessert-night-02-21-2013-5
END:VEVENT

END:VCALENDAR
