BEGIN:VCALENDAR
VERSION:2.0
PRODID:-//ChamberMaster//Event Calendar 2.0//EN
METHOD:PUBLISH
X-PUBLISHED-TTL:P3D
REFRESH-INTERVAL:P3D
CALSCALE:GREGORIAN
BEGIN:VEVENT
DTSTART:20140221T013000Z
DTEND:20140221T050000Z
X-MICROSOFT-CDO-ALLDAYEVENT:FALSE
SUMMARY:Chino Kiwanis - Annual Bunco and Dessert Night
DESCRIPTION:Chino Kiwanis - Annual Bunco and Dessert Night \n\n\n\nFUN FOR ALL AGES (Over 18)\n\nDoor and Game Prizes - Dessert and Coffee!!\n\n\n\nProceeds go to the Citizens of Chino\, the Teen Center and Unicef Project Eliminate
X-ALT-DESC;FMTTYPE=text/html:<br />\n<strong><span style="color:#008080\;"><span style="font-family:tahoma\;"><span style="font-size:14px\;">Chino Kiwanis -&nbsp\;<u>Annual Bunco and Dessert Night</u> </span></span></span><br />\n<br />\n<span style="color:#a52a2a\;">FUN FOR ALL AGES (Over 18)</span></strong><br />\n<span style="color:#008080\;"><strong>Door and Game Prizes - Dessert and Coffee!!</strong></span><br />\n<br />\n<strong><span style="color:#800080\;">Proceeds go to the Citizens of Chino\, the Teen Center and Unicef Project Eliminate&nbsp\;</span></strong>
LOCATION:Chino Senior Center 13170 Central Ave.\, Chino
UID:e.1511.522
SEQUENCE:3
DTSTAMP:20260421T152505Z
URL:https://business.chinovalleychamber.com/events/details/chino-kiwanis-annual-bunco-and-dessert-night-02-20-2014-522
END:VEVENT

END:VCALENDAR
