BEGIN:VCALENDAR
VERSION:2.0
PRODID:-//ChamberMaster//Event Calendar 2.0//EN
METHOD:PUBLISH
X-PUBLISHED-TTL:P3D
REFRESH-INTERVAL:P3D
CALSCALE:GREGORIAN
BEGIN:VEVENT
DTSTART:20131211T013000Z
DTEND:20131211T033000Z
X-MICROSOFT-CDO-ALLDAYEVENT:FALSE
SUMMARY:Chino Hills Tree Lighting Ceremony
DESCRIPTION:Celebrate the holiday season at the City's Tree Lighting Ceremony and a special visit from Santa Claus!\n\n\n\n6:15 PM - Tree Lighting Ceremony\n\nGingerbread House Contest Winners Announced\n\n\n\nSchedule of activities\n\n5:30 PM - 7:30 PM\n\nArts and Crafts\n\nFace Painting \n\nStrolling Carolers\n\n\n\n6:30 PM - 7:30 PM\n\nVisits with Santa Claus
X-ALT-DESC;FMTTYPE=text/html:<br />\n<span style="font-family:arial\;"><span style="color:#008000\;"><strong>Celebrate the holiday season at the City&#39\;s Tree Lighting Ceremony and a special visit from Santa Claus!</strong></span><br />\n<br />\n<span style="color:#800080\;"><strong>6:15 PM - Tree Lighting Ceremony<br />\nGingerbread House Contest Winners Announced</strong></span><br />\n<br />\n<span style="color:#ff0000\;"><strong><u>Schedule of activities</u><br />\n5:30 PM - 7:30 PM</strong></span><br />\n<span style="font-size:12px\;"><span style="color:#ff0000\;"><strong>Arts and Crafts<br />\nFace Painting&nbsp\;<br />\nStrolling Carolers</strong></span></span><br />\n<br />\n<span style="color:#008000\;"><strong><u>6:30 PM - 7:30 PM</u><br />\nVisits with Santa Claus</strong></span></span>
LOCATION:Chino Hills Government Center 14000 City Center Drive\, Chino Hills
UID:e.1511.481
SEQUENCE:3
DTSTAMP:20260421T182001Z
URL:https://business.chinovalleychamber.com/events/details/chino-hills-tree-lighting-ceremony-12-10-2013-481
END:VEVENT

END:VCALENDAR
