BEGIN:VCALENDAR
VERSION:2.0
PRODID:-//ChamberMaster//Event Calendar 2.0//EN
METHOD:PUBLISH
X-PUBLISHED-TTL:P3D
REFRESH-INTERVAL:P3D
CALSCALE:GREGORIAN
BEGIN:VEVENT
DTSTART;VALUE=DATE:20131021
DTEND;VALUE=DATE:20131022
TRANSP:TRANSPARENT
X-MICROSOFT-CDO-ALLDAYEVENT:TRUE
SUMMARY:Chino Hills Curves - 1st Annual Step-A-Thon - Oct 21st - 31st
DESCRIPTION:Curves of Chino Hills - 1st Annual Step-A-Thon \n\n\n\nWomen come and join us! \n\n\n\nMake a Difference in the Fight against Breast Cancer. \n\nWomen are always looking for new\, unique ways to help make a difference in the fight against breast cancer. The Step-A-Thon is a great way to not only donate money to a special cause\, but it is also a fun way to help improve your own personal health.
X-ALT-DESC;FMTTYPE=text/html:<br />\n<span style="color:#800000\;"><span style="font-size:14px\;"><span style="font-family:verdana\;"><strong>Curves of Chino Hills -&nbsp\;</strong></span><strong style="font-family: tahoma\;">1st&nbsp\;Annual Step-A-Thon&nbsp\;</strong></span></span><br />\n<br />\n<span style="font-size:14px\;"><strong>Women come and join us!&nbsp\;<br />\n<br />\nM<span style="font-family: tahoma\;">ake a Difference in the Fight against Breast Cancer.&nbsp\;</span><br />\nWomen are always looking for new\, unique ways to help make a difference in the fight against breast cancer. The Step-A-Thon is a great way to not only donate money to a special cause\, but it is also a fun way to help improve your own personal health.</strong></span><br />\n
LOCATION:Curves of Chino Hills 14676 Pipeline Ave.\, Suite M\, Chino Hills
UID:e.1511.447
SEQUENCE:3
DTSTAMP:20260421T211212Z
URL:https://business.chinovalleychamber.com/events/details/chino-hills-curves-1st-annual-step-a-thon-oct-21st-31st-10-21-2013-447
END:VEVENT

END:VCALENDAR
