BEGIN:VCALENDAR
VERSION:2.0
PRODID:-//ChamberMaster//Event Calendar 2.0//EN
METHOD:PUBLISH
X-PUBLISHED-TTL:P3D
REFRESH-INTERVAL:P3D
CALSCALE:GREGORIAN
BEGIN:VEVENT
DTSTART:20140208T180000Z
DTEND:20140208T220000Z
X-MICROSOFT-CDO-ALLDAYEVENT:FALSE
SUMMARY:Chino Hills Community Center - Grand Opening
DESCRIPTION:The Mayor and City Council invite you to join us as we celebrate the Chino Hills Community Center Grand Opening\n\n\n\nEntertainment - Live Music \n\nTours - of the Park and Building\n\nTastes - Delicious Desserts\n\nActivities - Class Demonstrations\, Event Activities and Information Booths
X-ALT-DESC;FMTTYPE=text/html:<span style="font-family:tahoma\;"><span style="color:#8b4513\;"><strong>The Mayor and City Council invite you to join us as we celebrate the Chino Hills Community Center Grand Opening</strong></span><br />\n<br />\n<strong><span style="color:#008080\;">Entertainment - Live Music&nbsp\;<br />\nTours - of the Park and Building<br />\nTastes - Delicious Desserts<br />\nActivities - Class Demonstrations\, Event Activities and Information Booths</span></strong></span>
LOCATION:Chino Hills Community Center 14250 Peyton Dr.\, Chino Hills
UID:e.1511.518
SEQUENCE:3
DTSTAMP:20260421T154225Z
URL:https://business.chinovalleychamber.com/events/details/chino-hills-community-center-grand-opening-02-08-2014-518
END:VEVENT

END:VCALENDAR
