BEGIN:VCALENDAR
VERSION:2.0
PRODID:-//ChamberMaster//Event Calendar 2.0//EN
METHOD:PUBLISH
X-PUBLISHED-TTL:P3D
REFRESH-INTERVAL:P3D
CALSCALE:GREGORIAN
BEGIN:VEVENT
DTSTART:20131214T160000Z
DTEND:20131214T180000Z
X-MICROSOFT-CDO-ALLDAYEVENT:FALSE
SUMMARY:Chino Hills Breakfast with Santa
DESCRIPTION:Santa is making a special visit from the North Pole to have breakfast with his Chino Hills friends!\n\n\n\nBring the entire family for a pancake breakfast\, provided by The Kiwanis Club of Chino Hills. There will also be craft projects\, face painting\, a candy guess\, and photos with Santa. All attendees\, both children and adults\, must pay and register by December 11.
X-ALT-DESC;FMTTYPE=text/html:<span style="font-size:16px\;"><span style="font-family:tahoma\;"><span style="color:#ff0000\;">Santa is making a special visit from the North Pole to have breakfast with his Chino Hills friends!</span></span></span><br />\n<br />\n<span style="color:#008000\;">Bring the entire family for a pancake breakfast\, provided by The Kiwanis Club of Chino Hills. There will also be craft projects\, face painting\, a candy guess\, and photos with Santa. All attendees\, both children and adults\, must pay and register by December 11.</span><br />\n<br />\n<br />\n
LOCATION:McCoy Equestrian & Recreation Center 14280 Peyton Drive\, Chino Hills
UID:e.1511.482
SEQUENCE:3
DTSTAMP:20260421T182124Z
URL:https://business.chinovalleychamber.com/events/details/chino-hills-breakfast-with-santa-12-14-2013-482
END:VEVENT

END:VCALENDAR
