BEGIN:VCALENDAR
VERSION:2.0
PRODID:-//ChamberMaster//Event Calendar 2.0//EN
METHOD:PUBLISH
X-PUBLISHED-TTL:P3D
REFRESH-INTERVAL:P3D
CALSCALE:GREGORIAN
BEGIN:VEVENT
DTSTART:20131221T030000Z
DTEND:20131221T050000Z
X-MICROSOFT-CDO-ALLDAYEVENT:FALSE
SUMMARY:Chino Hills Boat Parade
DESCRIPTION:The Tradition Continues in Chino Hills - Kiwanis Club of Chino Hills will host the Chino Hills Boat Parade at 7:00 p.m. on Friday\, December 20th.
X-ALT-DESC;FMTTYPE=text/html:<br />\n<span style="color:#000080\;"><span style="font-family:arial\;"><span style="font-family:tahoma\;"><strong><span style="font-size:14px\;"><span style="font-size:12px\;">The Tradition Continues in Chino Hills -&nbsp\;</span></span></strong></span></span></span><span style="font-size:12px\;"><strong><span style="color:#000080\;"><span style="font-family:tahoma\;">Kiwanis Club of Chino Hills will host the Chino Hills Boat Parade at 7:00 p.m. on Friday\, December 20th. </span></span></strong></span><br />\n<br />\n<p class="Default">\n	&nbsp\;</p>\n<br />\n<br />\n
LOCATION:Parade watchers should arrive early if they want to secure a spot along Peyton Drive (north of Eucalyptus Avenue) or Boys Republic Road before the Police Department begins to close those roads sometime between 6:15 and 6:30 p.m.
UID:e.1511.480
SEQUENCE:3
DTSTAMP:20260421T182058Z
URL:https://business.chinovalleychamber.com/events/details/chino-hills-boat-parade-12-20-2013-480
END:VEVENT

END:VCALENDAR
