BEGIN:VCALENDAR
VERSION:2.0
PRODID:-//ChamberMaster//Event Calendar 2.0//EN
METHOD:PUBLISH
X-PUBLISHED-TTL:P3D
REFRESH-INTERVAL:P3D
CALSCALE:GREGORIAN
BEGIN:VEVENT
DTSTART:20140704T170000Z
DTEND:20140704T210000Z
X-MICROSOFT-CDO-ALLDAYEVENT:FALSE
SUMMARY:Chino Hills 22nd Annual Celebration - Old Fashioned 4th of July Picnic
DESCRIPTION:Chino Hills - Old Fashioned 4th of July Picnic\n\n\n\nFamily Activities                                      \n\nLive Entertainment\n\nFun Water Activities \n\nGame Booths\n\nEating Contests\n\nFood & Craft Vendors\n\nFace Painting \n\nWater Cannon  Blowout \n\n\n\nYouth Field \n\nBMX Stunt Shows\n\nFun Zone \n\nBungee\n\nTrampoline\n\nRock Climbing Wall\n\n\n\nPatriotic Parade - begins at 10:30 AM\n\n\n\nFree Raffle Tickets For A Chance to Win Prizes\n\n\n\nClick Here to View Full-Size PDF
X-ALT-DESC;FMTTYPE=text/html:<span style="color:#FF0000\;"><span style="font-size:16px\;"><strong>Chino Hills - Old Fashioned 4th of July Picnic</strong></span></span><br />\n<br />\n<span style="font-size:16px\;"><strong><span style="font-size:14px\;"><span style="color:#000080\;">Family Activities &nbsp\;</span></span></strong></span>&nbsp\;&nbsp\;&nbsp\;&nbsp\;&nbsp\;&nbsp\;&nbsp\;&nbsp\;&nbsp\;&nbsp\;&nbsp\;&nbsp\;&nbsp\;&nbsp\;&nbsp\;&nbsp\;&nbsp\;&nbsp\;&nbsp\;&nbsp\;&nbsp\;&nbsp\;&nbsp\;&nbsp\;&nbsp\;&nbsp\;&nbsp\;&nbsp\;&nbsp\;&nbsp\;&nbsp\;&nbsp\;&#8203\; &nbsp\;&nbsp\;<br />\n<span style="font-size:16px\;"><strong><span style="font-size:14px\;"><span style="color:#000080\;">Live Entertainment<br />\nFun Water&nbsp\;Activities&nbsp\;<br />\nGame Booths<br />\nEating Contests<br />\nFood &amp\; Craft Vendors<br />\nFace Painting&nbsp\;<br />\nWater Cannon&nbsp\;&#8203\;Blowout&nbsp\;<br />\n<br />\nYouth Field&nbsp\;<br />\nBMX Stunt Shows</span></span></strong></span><br />\n<span style="color:#000080\;"><strong>Fun Zone&nbsp\;<br />\nBungee<br />\nTrampoline<br />\nRock Climbing Wall</strong></span><br />\n<br />\n<span style="color:#FF0000\;"><strong>Patriotic Parade - begins at 10:30 AM</strong></span><br />\n<br />\n<span style="color:#000080\;"><strong>Free Raffle Tickets For A Chance to Win Prizes</strong></span><br />\n<br />\n<a href="http://cloud.chambermaster.com/userfiles/UserFiles/chambers/1511/File/ChinoHills4thofJuly-2014.pdf">Click Here to View Full-Size PDF</a>
LOCATION:Big League Dreams Sports Park 16333 Fairfield Ranch Road\, Chino Hills
UID:e.1511.616
SEQUENCE:3
DTSTAMP:20260421T082715Z
URL:https://business.chinovalleychamber.com/events/details/chino-hills-22nd-annual-celebration-old-fashioned-4th-of-july-picnic-07-04-2014-616
END:VEVENT

END:VCALENDAR
