BEGIN:VCALENDAR
VERSION:2.0
PRODID:-//ChamberMaster//Event Calendar 2.0//EN
METHOD:PUBLISH
X-PUBLISHED-TTL:P3D
REFRESH-INTERVAL:P3D
CALSCALE:GREGORIAN
BEGIN:VEVENT
DTSTART:20140214T040000Z
DTEND:20140214T040000Z
X-MICROSOFT-CDO-ALLDAYEVENT:FALSE
SUMMARY:Chino Community Theatre and the Kiwanis Club of Chino Present - The Red Velvet Cake War
DESCRIPTION:Chino Community Theatre and the Kiwanis Club of Chino Present - The Red Velvet Cake War\n\n\n\nBy Jessie Jones\, Nicholas Hope and Jamie Wotten - Directed By John Lynd
X-ALT-DESC;FMTTYPE=text/html:<strong><span style="font-size:14px\;"><span style="color:#ff0000\;">Chino Community Theatre and the Kiwanis Club of Chino Present -&nbsp\;The Red Velvet Cake War</span></span><br />\n<br />\n<span style="color:#ff8c00\;">By Jessie Jones\, Nicholas Hope and Jamie Wotten - Directed By John Lynd</span></strong><br />\n<br />\n
LOCATION:Chino Community Theatre 13123 7th Street\, Chino
UID:e.1511.526
SEQUENCE:3
DTSTAMP:20260421T165638Z
URL:https://business.chinovalleychamber.com/events/details/chino-community-theatre-and-the-kiwanis-club-of-chino-present-the-red-velvet-cake-war-02-13-2014-526
END:VEVENT

END:VCALENDAR
