BEGIN:VCALENDAR
VERSION:2.0
PRODID:-//ChamberMaster//Event Calendar 2.0//EN
METHOD:PUBLISH
X-PUBLISHED-TTL:P3D
REFRESH-INTERVAL:P3D
CALSCALE:GREGORIAN
BEGIN:VEVENT
DTSTART;VALUE=DATE:20140707
DTEND;VALUE=DATE:20140708
TRANSP:TRANSPARENT
X-MICROSOFT-CDO-ALLDAYEVENT:TRUE
SUMMARY:Chino Community Children's Theatre Classes and Workshops
DESCRIPTION:Seventh Street Theatre Calendar of Events\n\n\n	Summer Acting Academy\n	Chino Community Children's Theatre Classes & Workshops \n	CCCT Upcoming Productions\n	Summer Theatre Camps\n\nClick Here to View Full-Size PDF
X-ALT-DESC;FMTTYPE=text/html:<span style="font-size:16px\;"><span style="color:#008080\;"><span style="font-family:comic sans ms\;"><strong>Seventh Street Theatre&nbsp\;Calendar of Events</strong></span></span></span>\n\n<ul>\n	<li><span style="font-size:14px\;"><span style="color:#FF0000\;"><span style="font-family:comic sans ms\;"><strong>Summer Acting Academy</strong></span></span></span></li>\n	<li><span style="font-size:14px\;"><span style="color:#FF8C00\;"><span style="font-family:comic sans ms\;"><strong>Chino Community Children&#39\;s Theatre&nbsp\;Classes &amp\; Workshops&nbsp\;</strong></span></span></span></li>\n	<li><span style="font-size:14px\;"><span style="color:#008000\;"><span style="font-family:comic sans ms\;"><strong>CCCT&nbsp\;Upcoming Productions</strong></span></span></span></li>\n	<li><span style="font-size:14px\;"><span style="color:#0000CD\;"><span style="font-family:comic sans ms\;"><strong><span style="font-family:comic sans ms\;"><strong>Summer Theatre Camps</strong></span></strong></span></span></span></li>\n</ul>\n<a href="http://cloud.chambermaster.com/userfiles/UserFiles/chambers/1511/File/ChinoTheatreWorkshops-1.pdf">Click Here to View Full-Size PDF</a>
LOCATION:The Seventh Street Theatre 13123 Seventh Street\, Chino
UID:e.1511.620
SEQUENCE:3
DTSTAMP:20260421T082342Z
URL:https://business.chinovalleychamber.com/events/details/chino-community-children-s-theatre-classes-and-workshops-07-07-2014-620
END:VEVENT

END:VCALENDAR
