BEGIN:VCALENDAR
VERSION:2.0
PRODID:-//ChamberMaster//Event Calendar 2.0//EN
METHOD:PUBLISH
X-PUBLISHED-TTL:P3D
REFRESH-INTERVAL:P3D
CALSCALE:GREGORIAN
BEGIN:VEVENT
DTSTART:20130210T020000Z
DTEND:20130210T070000Z
X-MICROSOFT-CDO-ALLDAYEVENT:FALSE
SUMMARY:Chino Community Center Corporation's Sweetheart's Ball
DESCRIPTION:Chino Community Center Corporation\n\n	Honoring Carri and Larry Walker\n\n	2013 Sweetheart's
X-ALT-DESC;FMTTYPE=text/html:<p>\n	Chino Community Center Corporation<br />\n	Honoring Carri and Larry Walker<br />\n	2013 Sweetheart&#39\;s<br />\n	&nbsp\;</p>\n
LOCATION:Los Serranos Country Club 15656 Yorba Ave. Chino Hills\, CA 91709
UID:e.1511.3
SEQUENCE:3
DTSTAMP:20260422T085623Z
URL:https://business.chinovalleychamber.com/events/details/chino-community-center-corporation-s-sweetheart-s-ball-02-09-2013-3
END:VEVENT

END:VCALENDAR
