BEGIN:VCALENDAR
VERSION:2.0
PRODID:-//ChamberMaster//Event Calendar 2.0//EN
METHOD:PUBLISH
X-PUBLISHED-TTL:P3D
REFRESH-INTERVAL:P3D
CALSCALE:GREGORIAN
BEGIN:VEVENT
DTSTART:20140215T020000Z
DTEND:20140215T060000Z
X-MICROSOFT-CDO-ALLDAYEVENT:FALSE
SUMMARY:Chino Community Center Corporation Presents its Annual Sweethearts Ball
DESCRIPTION:The Chino Community Center Corporation Invites you to attend the Sweetheart's Ball Honoring Karen & Tom Haughey\n\n\n\nCome join us for dinner and dancing to the Stardust Trio!\n\n\n\nSilent Auction proceeds go to enrich the Chino Community by addressing its social\, cultural and recreational needs for services and facilities.
X-ALT-DESC;FMTTYPE=text/html:<strong><span style="color:#800000\;"><span style="font-family:verdana\;">The Chino Community Center Corporation Invites you to attend the Sweetheart&#39\;s Ball Honoring Karen &amp\; Tom Haughey</span></span><br />\n<br />\nCome join us for dinner and dancing to the Stardust Trio!<br />\n<br />\nSilent Auction proceeds go to enrich the Chino Community by addressing its social\, cultural and recreational needs for services and facilities.</strong>
LOCATION:Los Serranos Country Club 15656 Yorba Ave.\, Chino Hills
UID:e.1511.449
SEQUENCE:3
DTSTAMP:20260421T153641Z
URL:https://business.chinovalleychamber.com/events/details/chino-community-center-corporation-presents-its-annual-sweethearts-ball-02-14-2014-449
END:VEVENT

END:VCALENDAR
