BEGIN:VCALENDAR
VERSION:2.0
PRODID:-//ChamberMaster//Event Calendar 2.0//EN
METHOD:PUBLISH
X-PUBLISHED-TTL:P3D
REFRESH-INTERVAL:P3D
CALSCALE:GREGORIAN
BEGIN:VEVENT
DTSTART:20140621T160000Z
DTEND:20140621T190000Z
X-MICROSOFT-CDO-ALLDAYEVENT:FALSE
SUMMARY:Chino Basin Water Conservation District - Water Wise Landscaping Workshops
DESCRIPTION:Chino Basin Water Conservation District offers a variety of landscape workshops to help you conserve water outdoors.\n\n\n\nWater Wise Landscaping Workshop  - June 21\, 2014 - 9:00 AM - 12:00 PM\n\nIrrigation Systems ~ Composting\n\n\n\nGet a Free Weather Based Irrigation Controller - Limit one per household\n\n\n	Must be a single-family home within Chino Water Conservation District boundaries\n	Must have more than 1\,500 sq. ft. of landscape\n	Must be replacing a non-weather based controller\n	Must attend an Irrigation Controller workshop at 9:00 AM - 11:00 AM on 6/21/14\, 7/19/14 or 8/23/14\n\n Click Here to View Full-Size PDF
X-ALT-DESC;FMTTYPE=text/html:<span style="font-size:14px\;"><strong><span style="font-family:tahoma\;">Chino Basin Water Conservation District offers a variety of landscape workshops to help you conserve water outdoors.<br />\n<br />\n<span style="color:#000080\;">Water Wise Landscaping Workshop &nbsp\;- June 21\, 2014 - 9:00 AM - 12:00 PM</span><br />\n<span style="color:#008000\;">Irrigation Systems</span> ~<span style="color:#008000\;"> </span><span style="color:#8B4513\;">Composting</span><br />\n<br />\n<span style="color:#000080\;">Get a Free Weather Based Irrigation Controller - Limit one per household</span></span></strong></span>\n\n<ul>\n	<li><span style="font-size:14px\;"><strong><span style="font-family:tahoma\;">Must be a single-family home within Chino Water Conservation District boundaries</span></strong></span></li>\n	<li><span style="font-size:14px\;"><strong><span style="font-family:tahoma\;">Must have more than 1\,500 sq. ft. of landscape</span></strong></span></li>\n	<li><span style="font-size:14px\;"><strong><span style="font-family:tahoma\;">Must be replacing a non-weather based controller</span></strong></span></li>\n	<li><span style="font-size:12px\;"><span style="font-family:tahoma\;"><strong style="font-size: 13px\; line-height: 1.6\;">Must attend an Irrigation Controller workshop at&nbsp\;<strong style="font-size: 13px\; line-height: 1.6\;"><strong style="font-size: 13px\; line-height: 1.6\;">9:00 AM - 11:00 AM&nbsp\;on&nbsp\;<strong style="font-size: 13px\; line-height: 1.6\;">6/21/14\, 7/19/14 or 8/23/14</strong></strong></strong></strong></span></span></li>\n</ul>\n<span style="font-size:11px\;"> <a href="http://cloud.chambermaster.com/userfiles/UserFiles/chambers/1511/File/CBWCD.pdf"><strong style="font-size: 13px\; line-height: 1.6\;"><strong style="font-size: 13px\; line-height: 1.6\;"><strong><strong style="font-size: 13px\; line-height: 1.6\;"><strong><strong style="font-size: 13px\; line-height: 1.6\;">Click Here to View Full-Size PDF</strong></strong></strong></strong></strong></strong></a></span>
LOCATION:Chino Basin Water Conservation District 4594 San Bernardino St.\, Montclair
UID:e.1511.599
SEQUENCE:3
DTSTAMP:20260419T125607Z
URL:https://business.chinovalleychamber.com/events/details/chino-basin-water-conservation-district-water-wise-landscaping-workshops-06-21-2014-599
END:VEVENT

END:VCALENDAR
