BEGIN:VCALENDAR
VERSION:2.0
PRODID:-//ChamberMaster//Event Calendar 2.0//EN
METHOD:PUBLISH
X-PUBLISHED-TTL:P3D
REFRESH-INTERVAL:P3D
CALSCALE:GREGORIAN
BEGIN:VEVENT
DTSTART:20130413T190000Z
DTEND:20130413T220000Z
X-MICROSOFT-CDO-ALLDAYEVENT:FALSE
SUMMARY:Chaffey College 130th Anniversary Celebration\, Chino Campus
DESCRIPTION:Celebrating 130 years\, 1883 to 2013.
X-ALT-DESC;FMTTYPE=text/html:Celebrating 130 years\, 1883 to 2013.
LOCATION:Chaffey College\, Chino Campus 5897 College Park Avenue\, Chino
UID:e.1511.287
SEQUENCE:3
DTSTAMP:20260422T055712Z
URL:https://business.chinovalleychamber.com/events/details/chaffey-college-130th-anniversary-celebration-chino-campus-04-13-2013-287
END:VEVENT

END:VCALENDAR
