BEGIN:VCALENDAR
VERSION:2.0
PRODID:-//ChamberMaster//Event Calendar 2.0//EN
METHOD:PUBLISH
X-PUBLISHED-TTL:P3D
REFRESH-INTERVAL:P3D
CALSCALE:GREGORIAN
BEGIN:VEVENT
DTSTART:20140124T180000Z
DTEND:20140202T050000Z
X-MICROSOFT-CDO-ALLDAYEVENT:FALSE
SUMMARY:Buy More Save More Event!
DESCRIPTION:10% off on 2 Appliances\n\n15% off on 3 Appliances\n\n20% off on 4 or more Appliances\n\n($399 and above)\n\nUp to 20% off on all Kenmore Appliances Plus and extra 5% off or 12 months 0% Financing with Sears Card
X-ALT-DESC;FMTTYPE=text/html:10% off on 2 Appliances<br />\n15% off on 3 Appliances<br />\n20% off on 4 or more Appliances<br />\n($399 and above)<br />\nUp to 20% off on all Kenmore Appliances Plus and extra 5% off or 12 months 0% Financing with Sears Card<br />\n
LOCATION:Sears Home Appliance Showroom- Chino
UID:e.1511.506
SEQUENCE:3
DTSTAMP:20260421T151826Z
URL:https://business.chinovalleychamber.com/events/details/buy-more-save-more-event-01-24-2014-506
END:VEVENT

END:VCALENDAR
