BEGIN:VCALENDAR
VERSION:2.0
PRODID:-//ChamberMaster//Event Calendar 2.0//EN
METHOD:PUBLISH
X-PUBLISHED-TTL:P3D
REFRESH-INTERVAL:P3D
CALSCALE:GREGORIAN
BEGIN:VEVENT
DTSTART:20240823T003000Z
DTEND:20240823T023000Z
X-MICROSOFT-CDO-ALLDAYEVENT:FALSE
SUMMARY:Business Mixer @ BAPS Hindu Temple - Chino Hills
DESCRIPTION:Join us for a Business Mixer at BAPS Hindu Temple - Chino Hills on Thursday\, August 22nd from 5:30 PM - 7:30 PM. Guided tours will be available!\n\n\n\n \n\n	\n		\n			Dress Code:\n\n			Please note that a strict dress code operates within the complex. Specifically\, tops must cover the shoulders\, back\, chest\, navel\, and upper arms. Leg-wear must be at least below knee-length. Visitors not having appropriate dress code would be requested to wear wraps provided at the Mandir.
X-ALT-DESC;FMTTYPE=text/html:<span style="font-family:tahoma\;"><span style="font-size:14px\;">Join us for a Business Mixer at BAPS Hindu Temple - Chino Hills o</span></span><span style="font-family:tahoma\;"><span style="font-size:14px\;">n Thursday\, August 22nd from 5:30 PM - 7:30 PM. Guided tours will be available!</span></span><br />\n<br />\n&nbsp\;\n<table border="0" cellpadding="3" style="box-sizing: inherit\; border-collapse: collapse\; font-family: &quot\;open sans&quot\;\; font-size: 18.7px\; letter-spacing: 0.3px\; text-align: justify\; word-spacing: 3px\;" width="100%">\n	<tbody style="box-sizing: inherit\;">\n		<tr style="box-sizing: inherit\;">\n			<td style="box-sizing: inherit\;" valign="bottom"><span style="font-size:14px\;"><span style="font-family:tahoma\;"><span style="box-sizing: inherit\; font-weight: bolder\;"><span class="fck_normal_text" style="box-sizing: inherit\; font-weight: lighter\; letter-spacing: 0.3px\; line-height: 1.55\; margin-bottom: 15px\; margin-top: 5px\; padding-right: 5px\; text-rendering: optimizelegibility\;"><span style="box-sizing: inherit\; font-weight: bolder\;">Dress Code:</span><br style="box-sizing: inherit\;" />\n			Please note that a strict dress code operates within the complex. Specifically\, tops must cover the shoulders\, back\, chest\, navel\, and upper arms. Leg-wear must be at least below knee-length. Visitors not having appropriate dress code would be requested to wear wraps provided at the Mandir.</span></span></span></span></td>\n		</tr>\n	</tbody>\n</table>\n
LOCATION:BAPS Hindu Temple 15100 Fairfield Ranch Rd. Chino Hills\, CA 91709
UID:e.1511.6252
SEQUENCE:3
DTSTAMP:20260420T055139Z
URL:https://business.chinovalleychamber.com/events/details/business-mixer-baps-hindu-temple-chino-hills-6252
END:VEVENT

END:VCALENDAR
