BEGIN:VCALENDAR
VERSION:2.0
PRODID:-//ChamberMaster//Event Calendar 2.0//EN
METHOD:PUBLISH
X-PUBLISHED-TTL:P3D
REFRESH-INTERVAL:P3D
CALSCALE:GREGORIAN
BEGIN:VEVENT
DTSTART:20130403T143000Z
DTEND:20130403T153000Z
X-MICROSOFT-CDO-ALLDAYEVENT:FALSE
SUMMARY:Business@Breakfast with Officer Jeffrey Briggs\, California Highway Patrol
DESCRIPTION:With Special Guest\, Officer Jeffery Briggs\, California Highway Patrol\n\nTopic: Traffic Safety\n\n\n\nIf you are interested in being a speaker or sponsor\, call the Chamber Office at 909-627-6177
X-ALT-DESC;FMTTYPE=text/html:With Special Guest\, Officer Jeffery Briggs\, California Highway Patrol<br />\nTopic: Traffic Safety<br />\n<br />\nIf you are interested in being a speaker or sponsor\, call the Chamber Office at 909-627-6177<br />\n<br />\n
LOCATION:Chino Chamber Office 13150 Seventh Street\, Chino
UID:e.1511.262
SEQUENCE:3
DTSTAMP:20260422T073108Z
URL:https://business.chinovalleychamber.com/events/details/business-breakfast-with-officer-jeffrey-briggs-california-highway-patrol-04-03-2013-262
END:VEVENT

END:VCALENDAR
