BEGIN:VCALENDAR
VERSION:2.0
PRODID:-//ChamberMaster//Event Calendar 2.0//EN
METHOD:PUBLISH
X-PUBLISHED-TTL:P3D
REFRESH-INTERVAL:P3D
CALSCALE:GREGORIAN
BEGIN:VEVENT
DTSTART:20130220T153000Z
DTEND:20130220T163000Z
X-MICROSOFT-CDO-ALLDAYEVENT:FALSE
SUMMARY:Business @ Breakfast: Knowledge & Networkiing
DESCRIPTION:Your Corporate Image\n\nHow does your business LOOK & SOUND to your potential clients?\n\nGuest Speaker: Brian Roberts
X-ALT-DESC;FMTTYPE=text/html:Your Corporate Image<br />\nHow does your business LOOK &amp\; SOUND to your potential clients?<br />\nGuest Speaker: Brian Roberts<br />\n
LOCATION:CVCC Chamber Office 13150 Seventh Street\, Chino CA 91710
UID:e.1511.20
SEQUENCE:3
DTSTAMP:20260422T084652Z
URL:https://business.chinovalleychamber.com/events/details/business-breakfast-knowledge-networkiing-02-20-2013-20
END:VEVENT

END:VCALENDAR
