BEGIN:VCALENDAR
VERSION:2.0
PRODID:-//ChamberMaster//Event Calendar 2.0//EN
METHOD:PUBLISH
X-PUBLISHED-TTL:P3D
REFRESH-INTERVAL:P3D
CALSCALE:GREGORIAN
BEGIN:VEVENT
DTSTART:20130327T143000Z
DTEND:20130327T153000Z
X-MICROSOFT-CDO-ALLDAYEVENT:FALSE
SUMMARY:Business@Breakfast Knowledge and Networking
DESCRIPTION:Open Networking\n\nBreakfast Sponsor\, Scott Forties\, Edward Jones
X-ALT-DESC;FMTTYPE=text/html:Open Networking<br />\nBreakfast Sponsor\, Scott Forties\, Edward Jones<br />\n
LOCATION:Chamber Office 13150 Seventh St.\, Chino
UID:e.1511.261
SEQUENCE:3
DTSTAMP:20260422T072119Z
URL:https://business.chinovalleychamber.com/events/details/business-breakfast-knowledge-and-networking-03-27-2013-261
END:VEVENT

END:VCALENDAR
