BEGIN:VCALENDAR
VERSION:2.0
PRODID:-//ChamberMaster//Event Calendar 2.0//EN
METHOD:PUBLISH
X-PUBLISHED-TTL:P3D
REFRESH-INTERVAL:P3D
CALSCALE:GREGORIAN
BEGIN:VEVENT
DTSTART:20250305T154500Z
DTEND:20250305T170000Z
X-MICROSOFT-CDO-ALLDAYEVENT:FALSE
SUMMARY:Business @ Breakfast - Impact Report & Chamber 101
DESCRIPTION:You're invited to join Zeb Welborn\, President of the Chino Valley Chamber of Commerce\, for an informative and engaging breakfast meeting focused on the impact we're making together in the business community.\n\nJoin us to:\n\n\n	Discover the 2024 Chamber Impact Report: Gain valuable insights into the Chamber's achievements and its positive influence on the Chino Valley business landscape. Learn how our collective efforts are driving growth and prosperity.\n	Explore the Power of Chamber 101: Whether you're a new member or a seasoned veteran\, this session will provide a comprehensive overview of the Chamber's benefits\, tools\, and resources. Discover how to maximize your membership and leverage our offerings for your business success.\n	Network and Connect: Connect with fellow business leaders\, build valuable relationships\, and expand your professional network.
X-ALT-DESC;FMTTYPE=text/html:<p data-sourcepos="5:1-5:207">You&#39\;re invited to join Zeb Welborn\, President of the Chino Valley Chamber of Commerce\, for an informative and engaging breakfast meeting focused on the impact we&#39\;re making together in the business community.</p>\n\n<p data-sourcepos="7:1-7:15"><strong>Join us to:</strong></p>\n\n<ul data-sourcepos="9:1-12:0">\n	<li data-sourcepos="9:1-9:236"><strong>Discover the 2024 Chamber Impact Report:</strong> Gain valuable insights into the Chamber&#39\;s achievements and its positive influence on the Chino Valley business landscape. Learn how our collective efforts are driving growth and prosperity.</li>\n	<li data-sourcepos="10:1-10:284"><strong>Explore the Power of Chamber 101:</strong> Whether you&#39\;re a new member or a seasoned veteran\, this session will provide a comprehensive overview of the Chamber&#39\;s benefits\, tools\, and resources. Discover how to maximize your membership and leverage our offerings for your business success.</li>\n	<li data-sourcepos="11:1-12:0"><strong>Network and Connect:</strong> Connect with fellow business leaders\, build valuable relationships\, and expand your professional network.</li>\n</ul>\n
LOCATION:14250 Peyton Drive Chino Hills\, CA 91710
UID:e.1511.6668
SEQUENCE:3
DTSTAMP:20260420T121144Z
URL:https://business.chinovalleychamber.com/events/details/business-breakfast-impact-report-chamber-101-6668
END:VEVENT

END:VCALENDAR
