BEGIN:VCALENDAR
VERSION:2.0
PRODID:-//ChamberMaster//Event Calendar 2.0//EN
METHOD:PUBLISH
X-PUBLISHED-TTL:P3D
REFRESH-INTERVAL:P3D
CALSCALE:GREGORIAN
BEGIN:VEVENT
DTSTART:20250319T144500Z
DTEND:20250319T160000Z
X-MICROSOFT-CDO-ALLDAYEVENT:FALSE
SUMMARY:Business @ Breakfast - City of Chino Hills-Local Hazard Mitigation Plan
DESCRIPTION:Let's Build a Safer Chino Hills\, Together & Network!   Join us for a Business at Breakfast where we'll dive into the City's 2025 Local Hazard Mitigation Plan (LHMP). This is more than just a presentation\; it's a collaborative discussion. Share your experiences\, voice your concerns\, help us develop a plan that truly reflects our community's needs\, AND expand your network by meeting local business owners and professionals.\n\n\n\nHow can you protect your employees from burnout AND your business from its impact? \n\nCelia Valenzuela with Aflec Benefits will reveal the answers! Discover the power of supplemental insurance benefits and learn how to create a thriving work environment. Join us for this essential presentation.\n\n\n\nLet's work together to ensure Chino Hills is prepared for any challenge AND build valuable relationships. Register Today!
X-ALT-DESC;FMTTYPE=text/html:<strong>Let&#39\;s Build a Safer Chino Hills\, Together &amp\; Network!</strong> &#129309\; Join us for a Business at Breakfast where we&#39\;ll dive into the City&#39\;s 2025 Local Hazard Mitigation Plan (LHMP). This is more than just a presentation\; it&#39\;s a collaborative discussion. Share your experiences\, voice your concerns\, help us develop a plan that truly reflects our community&#39\;s needs\, <strong>AND expand your network by meeting local business owners and professionals.<br />\n<br />\n<em>How can you protect your employees from burnout AND your business from its impact? </em></strong><br />\nCelia Valenzuela with Aflec Benefits will reveal the answers! Discover the power of supplemental insurance benefits and learn how to create a thriving work environment. Join us for this essential presentation.<br />\n<br />\nLet&#39\;s work together to ensure Chino Hills is prepared for any challenge AND build valuable relationships. Register Today!&nbsp\;
LOCATION:Chino Hills Community Center 14250 Peyton Drive Chino Hills\, CA 91709
UID:e.1511.6818
SEQUENCE:3
DTSTAMP:20260420T121630Z
URL:https://business.chinovalleychamber.com/events/details/business-breakfast-city-of-chino-hills-local-hazard-mitigation-plan-6818
END:VEVENT

END:VCALENDAR
