BEGIN:VCALENDAR
VERSION:2.0
PRODID:-//ChamberMaster//Event Calendar 2.0//EN
METHOD:PUBLISH
X-PUBLISHED-TTL:P3D
REFRESH-INTERVAL:P3D
CALSCALE:GREGORIAN
BEGIN:VEVENT
DTSTART:20140402T143000Z
DTEND:20140402T153000Z
X-MICROSOFT-CDO-ALLDAYEVENT:FALSE
SUMMARY:Business@Breakfast - Cancelled
DESCRIPTION:Business@Breakfast Networking with the Chamber has been cancelled and will resume on Wednesday\, April 9\, 2014. \n\n\n\nIf you are interested in being a speaker or breakfast sponsor\, call the Chamber Office at 909-627-6177
X-ALT-DESC;FMTTYPE=text/html:<br />\n<strong><span style="color:#FF0000\;">Business@Breakfast Networking with the Chamber has been cancelled and will resume on Wednesday\, April 9\, 2014.&nbsp\;</span></strong><br />\n<br />\n<strong>If you are interested in being a speaker or breakfast sponsor\, call the Chamber Office at 909-627-6177</strong>
LOCATION:Chamber Office 13150 7th Street\, Chino
UID:e.1511.554
SEQUENCE:3
DTSTAMP:20260421T135802Z
URL:https://business.chinovalleychamber.com/events/details/business-breakfast-cancelled-04-02-2014-554
END:VEVENT

END:VCALENDAR
